BEGIN:VCALENDAR
VERSION:2.0
PRODID:-//Center for Infectious Disease Research - ECPv6.15.20//NONSGML v1.0//EN
CALSCALE:GREGORIAN
METHOD:PUBLISH
X-WR-CALNAME:Center for Infectious Disease Research
X-ORIGINAL-URL:https://cidr.science.gmu.edu
X-WR-CALDESC:Events for Center for Infectious Disease Research
REFRESH-INTERVAL;VALUE=DURATION:PT1H
X-Robots-Tag:noindex
X-PUBLISHED-TTL:PT1H
BEGIN:VTIMEZONE
TZID:UTC
BEGIN:STANDARD
TZOFFSETFROM:+0000
TZOFFSETTO:+0000
TZNAME:UTC
DTSTART:20240101T000000
END:STANDARD
END:VTIMEZONE
BEGIN:VEVENT
DTSTART;VALUE=DATE:20251016
DTEND;VALUE=DATE:20251019
DTSTAMP:20260425T210240
CREATED:20250811T135958Z
LAST-MODIFIED:20250811T135958Z
UID:291-1760572800-1760831999@cidr.science.gmu.edu
SUMMARY:ASIC Meeting
DESCRIPTION:Dates: October 16–18\, 2025 \nWhere: William F. Bolger Center\, Potomac\, MD \nRoom Reservation Link: https://book.passkey.com/event/51000513/owner/3093873/home \nMeeting Registration link: https://secure.touchnet.com/C20788_ustores/web/store_main.jsp?STOREID=77&SINGLESTORE=true \nThe ASIC Annual Meeting is an intellectual “home” and support network for new and seasoned investigators\, students\, and postdocs. Over three days you’ll exchange ideas on emerging questions and cutting-edge developments in non-EV research including extracellular vesicles (EVs)\, extracellular particles (EPs)\, and particulate carriers of extracellular RNA (exRNA) as biological mediators\, regulators\, and diagnostic analytes. \nIn addition to these core areas\, the meeting also covers a broad range of intercellular communication processes including the roles of EVs\, EPs\, and exRNA in cancer\, central nervous system (CNS) diseases\, and infections (both bacterial and viral). \nLearn more on the ASIC website: https://asicbio.org/
URL:https://cidr.science.gmu.edu/event/asic-meeting/
LOCATION:Bolger Center\, 9600 Newbridge Dr\, Potomac\, MD\, 20854\, United States
CATEGORIES:Meeting
END:VEVENT
END:VCALENDAR