BEGIN:VCALENDAR
VERSION:2.0
PRODID:-//Center for Infectious Disease Research - ECPv6.15.20//NONSGML v1.0//EN
CALSCALE:GREGORIAN
METHOD:PUBLISH
X-WR-CALNAME:Center for Infectious Disease Research
X-ORIGINAL-URL:https://cidr.science.gmu.edu
X-WR-CALDESC:Events for Center for Infectious Disease Research
REFRESH-INTERVAL;VALUE=DURATION:PT1H
X-Robots-Tag:noindex
X-PUBLISHED-TTL:PT1H
BEGIN:VTIMEZONE
TZID:UTC
BEGIN:STANDARD
TZOFFSETFROM:+0000
TZOFFSETTO:+0000
TZNAME:UTC
DTSTART:20240101T000000
END:STANDARD
END:VTIMEZONE
BEGIN:VEVENT
DTSTART;TZID=UTC:20251119T080000
DTEND;TZID=UTC:20251119T190000
DTSTAMP:20260426T002604
CREATED:20250811T135705Z
LAST-MODIFIED:20251119T203336Z
UID:289-1763539200-1763578800@cidr.science.gmu.edu
SUMMARY:CIDR Meeting
DESCRIPTION:Time: 8:00am – 7:00pm \nDate: November 19\, 2025 \nLocation: Verizon Auditorium in Colgan Hall at GMU SciTech Campus \n  \nThe colleagues at the Center for Infectious Diseases Research (CIDR) are hosting a one-day conference on November 19\, 2025\, which covers the latest findings on viral\, bacterial\, and other exotic and emerging pathogens. The meeting will be held on the George Mason University Science and Technology Campus\, and the talks will be from local leaders including NIH\, ATCC\, and some of the local universities including Johns Hopkins University\, University of Virginia\, and University of Maryland. \nThis one-day meeting is expected to attract colleagues\, students\, and other professionals (mix of academia and industry) interested in Diagnostics\, Therapeutics\, Novel Technologies that cover the infectious disease arena and Public health policies that impact national security. It is expected that ~150 people will attend and the registration is free compliments of CIDR. There will also be a tour of the BRL at GMU\, which is the largest NIH funded facility in the States. Two confirmed Keynote speakers to date include Dr. Jeffery Taubenberger (NIH Acting Director of NIAID) and Dr. Arturo Casadevall (Professor and Chair at Johns Hopkins Bloomberg School of Public Health). Additionally\, there will be time for posters and company vendor showcases during the meeting. \nThe poster session will be held between 5:00 pm – 7:00 pm.
URL:https://cidr.science.gmu.edu/event/cidr-meeting/
LOCATION:MD
CATEGORIES:Meeting
END:VEVENT
END:VCALENDAR